BEGIN:VCALENDAR
VERSION:2.0
PRODID:-//Kai Ehlers - ECPv6.5.1.5//NONSGML v1.0//EN
CALSCALE:GREGORIAN
METHOD:PUBLISH
X-WR-CALNAME:Kai Ehlers
X-ORIGINAL-URL:https://kai-ehlers.de
X-WR-CALDESC:Veranstaltungen für Kai Ehlers
REFRESH-INTERVAL;VALUE=DURATION:PT1H
X-Robots-Tag:noindex
X-PUBLISHED-TTL:PT1H
BEGIN:VTIMEZONE
TZID:Europe/Berlin
BEGIN:DAYLIGHT
TZOFFSETFROM:+0100
TZOFFSETTO:+0200
TZNAME:CEST
DTSTART:20170326T010000
END:DAYLIGHT
BEGIN:STANDARD
TZOFFSETFROM:+0200
TZOFFSETTO:+0100
TZNAME:CET
DTSTART:20171029T010000
END:STANDARD
END:VTIMEZONE
BEGIN:VEVENT
DTSTART;TZID=Europe/Berlin:20170401T140000
DTEND;TZID=Europe/Berlin:20170401T180000
DTSTAMP:20260421T042546
CREATED:20170222T212431Z
LAST-MODIFIED:20170222T212621Z
UID:8738-1491055200-1491069600@kai-ehlers.de
SUMMARY:Russland und die Logik  des neuen Kalten Krieges
DESCRIPTION:Veranstaltung im Rahmen des 3. friedenspolitischen Ratschlages in Kiel \n  \nhttp://www.kieler-friedensforum.de/images/Friedensratschlag2017-1.pdf
URL:https://kai-ehlers.de/veranstaltung/russland-und-die-logik-des-neuen-kalten-krieges/
LOCATION:Gewerkschaftshaus\, Emma Sorgenfrei\, Legienstr. \, Kiel\, 24103
END:VEVENT
BEGIN:VEVENT
DTSTART;TZID=Europe/Berlin:20170420T070000
DTEND;TZID=Europe/Berlin:20170420T180000
DTSTAMP:20260421T042546
CREATED:20170222T214022Z
LAST-MODIFIED:20170222T214040Z
UID:8742-1492671600-1492711200@kai-ehlers.de
SUMMARY:Syrien\, Ukraine - eingefrorene Konflikte - Minen unseres Jahrhunderts
DESCRIPTION:Veranstaltung mit der Deutsch-russischen-Gesellschaft Ettlingen: \nhttp://www.drg-ettlingen.de/
URL:https://kai-ehlers.de/veranstaltung/syrien-ukraine-eingefrorene-konflikte-minen-unseres-jahrhunderts/
LOCATION:Ettlingen\, Pulvergartenstr. 10 · 76275 Ettlingen · 07243 536588\,  Ettlingen\, 76275
END:VEVENT
BEGIN:VEVENT
DTSTART;TZID=Europe/Berlin:20170427T170000
DTEND;TZID=Europe/Berlin:20170427T170000
DTSTAMP:20260421T042546
CREATED:20170222T220013Z
LAST-MODIFIED:20170424T181519Z
UID:8748-1493312400-1493312400@kai-ehlers.de
SUMMARY:Geopolitische Dimensionen des Ukraine Konfliktes
DESCRIPTION:Veranstaltung im Magda Thürey Zentrum im Rahmen einer Veranstaltungsreihe der  Gruppe „Bildung ohne Bundeswehr“ im Vorfeld des G20 Gipfel\, der im Juni in Hamburg stattfinden soll. \nHier Flyer zur Veranstaltung  \n  \n 
URL:https://kai-ehlers.de/veranstaltung/geopolitische-dimensionen-des-ukraine-konfliktes/
END:VEVENT
END:VCALENDAR