BEGIN:VCALENDAR
VERSION:2.0
PRODID:-//Kai Ehlers - ECPv6.5.1.5//NONSGML v1.0//EN
CALSCALE:GREGORIAN
METHOD:PUBLISH
X-WR-CALNAME:Kai Ehlers
X-ORIGINAL-URL:https://kai-ehlers.de
X-WR-CALDESC:Veranstaltungen für Kai Ehlers
REFRESH-INTERVAL;VALUE=DURATION:PT1H
X-Robots-Tag:noindex
X-PUBLISHED-TTL:PT1H
BEGIN:VTIMEZONE
TZID:Europe/Berlin
BEGIN:DAYLIGHT
TZOFFSETFROM:+0100
TZOFFSETTO:+0200
TZNAME:CEST
DTSTART:20160327T010000
END:DAYLIGHT
BEGIN:STANDARD
TZOFFSETFROM:+0200
TZOFFSETTO:+0100
TZNAME:CET
DTSTART:20161030T010000
END:STANDARD
END:VTIMEZONE
BEGIN:VEVENT
DTSTART;TZID=Europe/Berlin:20160202T180000
DTEND;TZID=Europe/Berlin:20160202T210000
DTSTAMP:20260424T044104
CREATED:20151129T230027Z
LAST-MODIFIED:20160112T222534Z
UID:7794-1454436000-1454446800@kai-ehlers.de
SUMMARY:Kai Ehlers stellt vor: "25 Jahre Perestroika - Gespräche mit Boris Kagarlitzi"
DESCRIPTION:Zwei Bände von „25 Jahre Perestroika – Gespräche mit Boris Kagarlitzki“\, Autor: Kai Ehlers sind inzwischen erschienen. \nIch stelle Inhalt und Umstände der Entstehung sowie den heutigen Wert dieser Gespräche vor: \nWas brachte Perestroika? Was waren ihre Ziele? Wer waren ihre Aktivisten? Wer waren ihre Gegner? Wer war Gorbatschow? Wer Jelzin? Wer ist Putin? Wie liest sich linke Kritik dieser Jahre? Welche Lehren zieht die russische Linke aus dem Kollaps des realen Sozialismus? Welchen Einfluss hat sie auf die Entwicklung nehmen können? Welche Alternativen entwickelt sie heute? Für Russland? Über Russland hinaus? „In zehn Monaten nach dem tatsächlichen Einsetzen des ‚500-Tage-Programms’ wird das ideologische Klima das vollkommene Gegenteil zu dem sein\, was es jetzt ist. Liberalismus und Kapitalismus werden verhasster sein als jetzt der Kommunismus.“ Das erklärte Boris Kagarlitzki\, profiliertester Reform-Marxist des heutigen Russland im September 1990 angesichts des Übergangs von Gorbatschows Reform des Sozialismus auf Jelzins Kurs der Zwangsprivatisierung. In welchem Auf und Ab sich die Verhältnisse tatsächlich entwickelten\, ist den Gesprächen zu entnehmen\, die über einen Zeitraum von 25 Jahren zwischen Boris Kagarlitzki und mir als Russlandforscher geführt wurden. Die Gespräche vermitteln\, begleitet von einer vergleichenden Chronologie\, einen authentischen Einblick in die inneren Abläufe und die Grundfragen der nachsowjetischen Transformation. \nSiehe dazu den Text:  25 Jahre Perestroika
URL:https://kai-ehlers.de/veranstaltung/kai-ehlers-stellt-vor-25-jahre-perestroika-gespraeche-mit-boris-kagarlitzi-zwei-baende/
LOCATION:Literaturkaffeehaus Taranta babu\, Humboldtstr. 44\, Dortmund\, 44139
END:VEVENT
BEGIN:VEVENT
DTSTART;TZID=Europe/Berlin:20160221T150000
DTEND;TZID=Europe/Berlin:20160221T190000
DTSTAMP:20260424T044104
CREATED:20160128T194630Z
LAST-MODIFIED:20160128T194630Z
UID:8130-1456066800-1456081200@kai-ehlers.de
SUMMARY:Krise des Nationalstaats
DESCRIPTION:Blick auf die Rolle des Nationalstaats in der globalisierten Welt. \nWas ist ein Nationalstaat? Woriun zeigt sich die gegenwärtige Krise? \nVarianten: Separatismus\, Nationalismus. Regionalismus. Multikulturalismus… \nWohin geht die Entwicklung?
URL:https://kai-ehlers.de/veranstaltung/krise-des-nationalstaats/
LOCATION:Forum inntegrierte Gesellschaft\, auf Nachfrage\, Hamburg
END:VEVENT
BEGIN:VEVENT
DTSTART;TZID=Europe/Berlin:20160226T180000
DTEND;TZID=Europe/Berlin:20160226T210000
DTSTAMP:20260424T044104
CREATED:20160115T210802Z
LAST-MODIFIED:20160116T154253Z
UID:8049-1456509600-1456520400@kai-ehlers.de
SUMMARY:Der Ukraine-Syrien-Komplex
DESCRIPTION:Veranstaltung der attac-Gruppe Itzehoe \nFlyer kommt noch \n 
URL:https://kai-ehlers.de/veranstaltung/der-ukraine-syrien-komplex/
LOCATION:Himmer&Erde\, Kirchenstr. \, Itzehoe
END:VEVENT
END:VCALENDAR