BEGIN:VCALENDAR
VERSION:2.0
PRODID:-//Kai Ehlers - ECPv6.5.1.5//NONSGML v1.0//EN
CALSCALE:GREGORIAN
METHOD:PUBLISH
X-ORIGINAL-URL:https://kai-ehlers.de
X-WR-CALDESC:Veranstaltungen für Kai Ehlers
REFRESH-INTERVAL;VALUE=DURATION:PT1H
X-Robots-Tag:noindex
X-PUBLISHED-TTL:PT1H
BEGIN:VTIMEZONE
TZID:Europe/Berlin
BEGIN:DAYLIGHT
TZOFFSETFROM:+0100
TZOFFSETTO:+0200
TZNAME:CEST
DTSTART:20160327T010000
END:DAYLIGHT
BEGIN:STANDARD
TZOFFSETFROM:+0200
TZOFFSETTO:+0100
TZNAME:CET
DTSTART:20161030T010000
END:STANDARD
END:VTIMEZONE
BEGIN:VEVENT
DTSTART;TZID=Europe/Berlin:20160117T150000
DTEND;TZID=Europe/Berlin:20160117T190000
DTSTAMP:20260424T134013
CREATED:20160112T182053Z
LAST-MODIFIED:20160112T182207Z
UID:8000-1453042800-1453057200@kai-ehlers.de
SUMMARY:Vorstellung: Epos "Ylttanbik - letzter Zar der Bolgaren" - Gespräch zur Vielvölkerkultur Russlands
DESCRIPTION:Vorstellung des soeben erscheinenden Buches \n„Ylttanbik – Letzer Zar der Bolgaren – Verschiebung der Mitte der Welt zur Zeit des Sturms der Mongolen nach Westen. \nDaran anschließend Gespräch über die Vielvölkerkultur Russlands in Bezug zur Frage der heutigen Krise des Nationalismus.
URL:https://kai-ehlers.de/veranstaltung/vorstellung-epos-ylttanbik-letzter-zar-der-bolgaren-gespraech-zur-vielvoelkerkultur-russlands/
LOCATION:Unbenannter Veranstaltungsort\, nach Vereinbarung\, Hamburg\, Deutschland
END:VEVENT
BEGIN:VEVENT
DTSTART;TZID=Europe/Berlin:20160122T180000
DTEND;TZID=Europe/Berlin:20160122T203000
DTSTAMP:20260424T134013
CREATED:20151130T202906Z
LAST-MODIFIED:20160113T202709Z
UID:7805-1453485600-1453494600@kai-ehlers.de
SUMMARY:"Dem Übel an die Wurzel gehen..."
DESCRIPTION:„Dem Übel an die Wurzel gehen…?“\nWem nützt der Krieg gegen den Terrorismus? \nNach den Anschlägen von Paris erklärte Frankreich den „Krieg gegen den Terror“. Die letzte Kriegserklärung gegen den Terror durch George W. Bush nach dem Anschlag auf die Twin-Towers im September 2001 hat den Terrorismus weltweit anwachsen lassen. Wohin führt die neuerliche Kriegserklärung? Geht sie wirklich an die Wurzel des Übels?\nKai Ehlers beleuchtet Abläufe\, Motive die Hintergründe dieser neuerlichen Eskalationen. \nsiehe dazu den Artiekl: Flüchtlinge „…dem Übel an die Wurzel gehen…„
URL:https://kai-ehlers.de/veranstaltung/dem-uebel-an-die-wurzel-gehen/
LOCATION:Steinerhaus\, Mittelweg 11 - 14\, Hamburg \, 20148
END:VEVENT
BEGIN:VEVENT
DTSTART;TZID=Europe/Berlin:20160125T180000
DTEND;TZID=Europe/Berlin:20160125T210000
DTSTAMP:20260424T134013
CREATED:20151130T204226Z
LAST-MODIFIED:20151214T114937Z
UID:7810-1453744800-1453755600@kai-ehlers.de
SUMMARY:"Ukraine-Syrien-Komplex" - was kann Putin?
DESCRIPTION:Ukraine\, Syrien\, Flüchtlinge\, Türkei – was kannPutin\, was will Berlin? \nInformationen zur Konfliktentwicklung zwischen den großen Playern\, Beleuchtung der Hintergründ\, Diskussion zur Frage: was können wir tun? \n  \n  \n 
URL:https://kai-ehlers.de/veranstaltung/ukraine-syrien-komplex-was-kann-putin/
LOCATION:Filmbüro\, Bürgermeister-Haupt-Str. 51-53\, Wismar\, 23966
END:VEVENT
END:VCALENDAR