BEGIN:VCALENDAR
VERSION:2.0
PRODID:-//Kai Ehlers - ECPv6.5.1.5//NONSGML v1.0//EN
CALSCALE:GREGORIAN
METHOD:PUBLISH
X-WR-CALNAME:Kai Ehlers
X-ORIGINAL-URL:https://kai-ehlers.de
X-WR-CALDESC:Veranstaltungen für Kai Ehlers
REFRESH-INTERVAL;VALUE=DURATION:PT1H
X-Robots-Tag:noindex
X-PUBLISHED-TTL:PT1H
BEGIN:VTIMEZONE
TZID:Europe/Berlin
BEGIN:DAYLIGHT
TZOFFSETFROM:+0100
TZOFFSETTO:+0200
TZNAME:CEST
DTSTART:20150329T010000
END:DAYLIGHT
BEGIN:STANDARD
TZOFFSETFROM:+0200
TZOFFSETTO:+0100
TZNAME:CET
DTSTART:20151025T010000
END:STANDARD
END:VTIMEZONE
BEGIN:VEVENT
DTSTART;TZID=Europe/Berlin:20151108T090000
DTEND;TZID=Europe/Berlin:20151108T140000
DTSTAMP:20260425T055403
CREATED:20151027T125750Z
LAST-MODIFIED:20151027T125955Z
UID:7643-1446973200-1446991200@kai-ehlers.de
SUMMARY:Friedenskonferenz Hamburg
DESCRIPTION:http://www.die-linke-hamburg.de/termine/detail/artikel/hamburger-friedenskonferenz.html
URL:https://kai-ehlers.de/veranstaltung/friedenskonferenz/
LOCATION:Curiohaus (GEW Hinterhof)\, Rothenbaumchaussee 13\, Hamburg\, 22148
END:VEVENT
BEGIN:VEVENT
DTSTART;TZID=Europe/Berlin:20151116T180000
DTEND;TZID=Europe/Berlin:20151116T210000
DTSTAMP:20260425T055403
CREATED:20151027T115551Z
LAST-MODIFIED:20151103T153929Z
UID:7633-1447696800-1447707600@kai-ehlers.de
SUMMARY:Ukraine - Syrien - 'russische Aggression' : Ein "Ukraine-Syrien-Komplex"?
DESCRIPTION:Der „Ukraine-Syrien-Komplex“ (Angela Merkel) – oder was will Russland?\nEin politischer Abend der Initiative „Welt ohne Waffen“\, Weimar mit dem Journalisten Kai Ehlers (Hamburg). \nMontag\, der 16. November um 19:00 Uhr\nKleinkunstraum des Kulturzentrums Mon Ami\, Weimar\, Goetheplatz \nViele Gespräche zur Lage in der Ukraine und in Syrien spiegeln eine Verfassung\, in der nicht mehr daran geglaubt wird\, überhaupt Wahrheiten erfahren und erkennen oder etwas ändern zu können. Der prominente Autor Kai Ehlers konnte für einen Vortrag zu einem hochinteressanten Thema gewonnen werden. Er kündigt diesen mit folgenden Worten an:\n„Meldungen zu den Ereignissen in der Ukraine stehen zur Zeit hinter denen zu Syrien zurück. Gemessen an der massiven Kampagne gegen den „Aggressor“ Russland in der ersten Hälfte des Jahres sind die politischen Kommentare des Westens zum Eingreifen Russlands in Syrien verblüffend moderat. Der an die massiven Angriffe gegen Russland von Kiewer Seite und an Drohungen gegen die zu Terroristen erklärten Gebiete Lugansk und Donezk gewöhnte Zeitgenosse\, reibt sich verwundert die Augen: sind mit der soeben erfolgten Kommunalwahl im Kiewer Teil der Ukraine jetzt demokratische Verhältnisse eingetreten? Sind die Bürgerkriegsprobleme der Ukraine gelöst? Und welche Rolle hätte Russland dabei gespielt? Welche vielleicht auch der Westen? Oder hat sich der Focus des Stellvertreterkrieges\, der seit dem Maidan in der Ukraine zwischen USA/EU und Russland ausgetragen wird ins Globale verlagert?“\nDiesen Fragen soll die Veranstaltung mit Kai Ehlers durch einen genaueren Blick auf Hintergründe und den Stand der Entwicklung in der Ukraine und einen vorsichtigen\, ersten Blick auf die Ereignisse in Syrien nachgehen.\nKai Ehlers ist selbstständiger Forscher\, Publizist und Buchautor. Der Schwerpunkt seiner Arbeit liegt auf den Wandlungen im nachsowjetischen Raum und deren lokalen wie auch globalen Folgen. In Deutschland engagiert er sich in der Debatte um gesellschaftliche Alternativen. www.kai-ehlers.de ; E-Mail: info@kai-ehlers.de\nDie Initiatoren hoffen\, über diese Themen mit dem Referenten und dem Publikum ins Gespräch zu kommen und damit auch ein Denken jenseits der Logik des Krieges anzuregen. \nZeit: Montag\, der 16. November um 19:00 Uhr\nOrt: Kleinkunstraum des Kulturzentrums Mon Ami\, Weimar\, Goetheplatz\nEintritt frei.\nInitiative „Welt ohne Waffen“\, Weimar\nProf. Dr. Olaf Weber\, Weimar\nAntje Loele\, Jena\nKontakt: weltohnewaffen@gmx.de \nDie Veranstaltung wird gefördert durch die DAKT. Die Andere Kommunalpolitik Thüringen e.V. und die Rosa-Luxemburg-Stiftung Thüringen
URL:https://kai-ehlers.de/veranstaltung/ukraine-syrien-russische-aggression-ein-ukraine-syrien-komplex/
LOCATION:Kleinkunstraum des Kulturzentrums Mon Ami\, Goetheplatz 11\, Weimar \, 99423
END:VEVENT
BEGIN:VEVENT
DTSTART;TZID=Europe/Berlin:20151124T180000
DTEND;TZID=Europe/Berlin:20151124T210000
DTSTAMP:20260425T055403
CREATED:20151027T122732Z
LAST-MODIFIED:20151109T192040Z
UID:7641-1448388000-1448398800@kai-ehlers.de
SUMMARY:Russland - Ukraine - Syrien -was will Putin?
DESCRIPTION:ROSA LUXEMBURG CLUB NIEDERELBE \nDienstag\, den 24. November um 19.00 Uhr\nKulturforum\, Hafenbrücke 1\, Buxtehude: \nVortrag:\nRussland – Ukraine – Syrien\nWas will Putin?\nReferent: Kai Ehlers \nDer Referent schildert Ursachen des Ukrainekonfliktes\, berichtet über die Ereignisse des Maidan\, die konkrete jetzige Situation im Schatten des Syrienkrieges – und die dahinter stehenden geopolitischen Konfliktlinien.\nAuch die Frage: Was tun\, soll nicht zu kurz kommen.\nDem Vortrag schließt sich eine Dis-kussion an. \nKai Ehlers ist Schriftsteller und Publizist aus Hamburg\, ein Kenner Russlands\, plädiert für Sachlichkeit und lädt uns zu genauerer Betrachtung der Konflikte ein. \nIn Zusammenarbeit mit der\nRosa Luxemburg Stiftung Niedersachsen\nwww.rosalux.de\nV.i.S.d.P.: Michael Quelle\, Brinkstr. 7 in Stade
URL:https://kai-ehlers.de/veranstaltung/ukraine-syrien-eine-fortsetzung-3/
LOCATION:Kulturforum\, Hafenbrücke 1\, Buxtehude\, 21614
END:VEVENT
END:VCALENDAR