BEGIN:VCALENDAR
VERSION:2.0
PRODID:-//Kai Ehlers - ECPv6.5.1.5//NONSGML v1.0//EN
CALSCALE:GREGORIAN
METHOD:PUBLISH
X-WR-CALNAME:Kai Ehlers
X-ORIGINAL-URL:https://kai-ehlers.de
X-WR-CALDESC:Veranstaltungen für Kai Ehlers
REFRESH-INTERVAL;VALUE=DURATION:PT1H
X-Robots-Tag:noindex
X-PUBLISHED-TTL:PT1H
BEGIN:VTIMEZONE
TZID:Europe/Berlin
BEGIN:DAYLIGHT
TZOFFSETFROM:+0100
TZOFFSETTO:+0200
TZNAME:CEST
DTSTART:20150329T010000
END:DAYLIGHT
BEGIN:STANDARD
TZOFFSETFROM:+0200
TZOFFSETTO:+0100
TZNAME:CET
DTSTART:20151025T010000
END:STANDARD
END:VTIMEZONE
BEGIN:VEVENT
DTSTART;TZID=Europe/Berlin:20151007T170000
DTEND;TZID=Europe/Berlin:20151009T190000
DTSTAMP:20260425T123232
CREATED:20150520T095535Z
LAST-MODIFIED:20150703T215325Z
UID:7165-1444237200-1444417200@kai-ehlers.de
SUMMARY:Russischer Herzschlag - was ist das russische an Russland
DESCRIPTION:Veranstaltungsreihe in Ulm und um Ulm herum \nzusammen mit der Volkshochschule Ulm und regionalen Bildungsstätten \n1) Mittwoch\, 7. Oktober\, 20 Uhr\nRussland: Herzschlag einer Weltmacht (in Langenau) \n2) Donnerstag\, 8. Oktober\, 20 Uhr\nUkrainekrise (in Blaustein) \n3) Freitag\, 9. Oktober\, 20 Uhr\nRussland: Herzschlag einer Weltmacht (in Ulm)
URL:https://kai-ehlers.de/veranstaltung/russischer-herzschlag-was-ist-das-russische-an-russland/
END:VEVENT
BEGIN:VEVENT
DTSTART;TZID=Europe/Berlin:20151030T093000
DTEND;TZID=Europe/Berlin:20151031T160000
DTSTAMP:20260425T123232
CREATED:20151027T113854Z
LAST-MODIFIED:20151027T113854Z
UID:7627-1446197400-1446307200@kai-ehlers.de
SUMMARY:Linke Literaturmesse Nürnberg
DESCRIPTION:Die Geschichte Russlands ist noch nicht geschrieben. Bisher haben sich eher ideologisch besetzte Eckdaten im Bewußtsein  der Öffentlichkeit etabliert. Die beiden Bände ’25 Jahre Perestroika – Gespräche mit Boris Kagarlitzki‘ zeigen dagegen die Innenansicht derer\, die sich seit Anfang der 1989er Jahre  als „linker Flügel der Perestroika“ verstanden haben und sich eine Reform des Sozialismus erhofften. \nDie beiden Bücher werden von Kai Ehlers auf der linken Buchmesse in Nürnberg vorgestellt. \nhttp://www.linke-literaturmesse.org/
URL:https://kai-ehlers.de/veranstaltung/linke-literaturmesse-nuernberg/
LOCATION:Glasbau am HBF\, kÖNIGSTR. 93\, Nürnberg
END:VEVENT
END:VCALENDAR