BEGIN:VCALENDAR
VERSION:2.0
PRODID:-//Kai Ehlers - ECPv6.5.1.5//NONSGML v1.0//EN
CALSCALE:GREGORIAN
METHOD:PUBLISH
X-ORIGINAL-URL:https://kai-ehlers.de
X-WR-CALDESC:Veranstaltungen für Kai Ehlers
REFRESH-INTERVAL;VALUE=DURATION:PT1H
X-Robots-Tag:noindex
X-PUBLISHED-TTL:PT1H
BEGIN:VTIMEZONE
TZID:Europe/Berlin
BEGIN:DAYLIGHT
TZOFFSETFROM:+0100
TZOFFSETTO:+0200
TZNAME:CEST
DTSTART:20150329T010000
END:DAYLIGHT
BEGIN:STANDARD
TZOFFSETFROM:+0200
TZOFFSETTO:+0100
TZNAME:CET
DTSTART:20151025T010000
END:STANDARD
END:VTIMEZONE
BEGIN:VEVENT
DTSTART;TZID=Europe/Berlin:20150901T170000
DTEND;TZID=Europe/Berlin:20150901T190000
DTSTAMP:20260426T021222
CREATED:20150703T143814Z
LAST-MODIFIED:20150703T202623Z
UID:7459-1441126800-1441134000@kai-ehlers.de
SUMMARY:Demonstration zum "Antikriegstag"
DESCRIPTION:Das Hamburger Forum bereitet zurzeit die Kundgebung zum Hiroshimatag und die Demonstration am Antikriegstag\, dem 1. September\, vor. Der Hiroshimatag jährt sich in diesem Jahr zum 70. Mal; unsere Kundgebung findet statt am Donnerstag\, dem 6. August\, um 17-19 Uhr. Die Demonstration zum Antikriegstag ist für den 1. September geplant. \nMit vorangehender Kundgebung zur aktuellen Lage\, \nRedner u.a. Kai Ehlers. \nAusgangspunkt der Demonstration vermutlich: der „Kriegsklotz“ am Bahnhof Dammtor \nZeit vermutlich: 18.00 Uhr \n(Nachfragen für beides notwendig\, siehe dazu die Seite des Friedensforums)
URL:https://kai-ehlers.de/veranstaltung/demonstration-zum-antikriegstag/
LOCATION:Unbenannter Veranstaltungsort\, Dammtordamm\, Hamburg
END:VEVENT
BEGIN:VEVENT
DTSTART;TZID=Europe/Berlin:20150904T180000
DTEND;TZID=Europe/Berlin:20150904T210000
DTSTAMP:20260426T021222
CREATED:20150520T102728Z
LAST-MODIFIED:20150703T205306Z
UID:7171-1441389600-1441400400@kai-ehlers.de
SUMMARY:Umschau zur Lage am Anti-Kriegstag
DESCRIPTION:Veranstaltung zum Antikriegstag bzw. Weltfriedenstag in der Ernst Thälmann Gedenkstätte
URL:https://kai-ehlers.de/veranstaltung/umschau-zur-lage-am-anti-kriegstag/
END:VEVENT
BEGIN:VEVENT
DTSTART;TZID=Europe/Berlin:20150905T100000
DTEND;TZID=Europe/Berlin:20150905T120000
DTSTAMP:20260426T021222
CREATED:20150428T195216Z
LAST-MODIFIED:20150703T213601Z
UID:7070-1441447200-1441454400@kai-ehlers.de
SUMMARY:Friedensfest Strausberg: West-Ost Konfrontation – Deutschland  neuer Hegemon?
DESCRIPTION:Mein Part: 11.00 – 13.00 Entwicklung Russlands n ach Perestroika \nIch stelle u.a. auch das Buch vor\, den Gesprächspartner Boris Kagarlitzki\, berichte über die Umstände\, unter denen die Gespräche stattfanden und gebe eine Skizze zur Entwicklung Russlands. \nKagarlitzki ist der im Westen bekannteste russische Analytiker\, der sich um die Erneuerung sozialistischer Politik im heutigen Russland und darüber hinaus im internationalen Feld bemüht. \nDas Gesamtprogramm (Stand 17.05.) – wird noch aktualisiert: \nThema und Schwerpunkte Podiumsgespräch am 05.09.15 (Stand 17.5.15)\nDie West-Ost Konfrontation – Deutschland ein neuer globaler Hegemon?\n(Moderation: Bernd Biedermann)\nSchwerpunkte:\n1. -Wer hat die gegenwärtige Ost-West Konfrontation ausgelöst?\n(Ursachen und Wirkungen\, Anzeichen und Verlauf wie u.a. Bildung einer „Ostfront“ in sechs Ländern\, Stationierung eines Raketenabwehrsystems\, das Global-Strike-Konzept)\nWie gefährlich ist die militärische Konfrontation?\nLehren aus dem Ukraine-Konflikt\n(Otfried Nassauer\, Leiter des Berliner Informationszentrums für Transatlantische Sicherheit/BITS)\n– Zu den aktuellen Militärdoktrinen und Sicherheitsstrategien Russlands\, Chinas und der USA. (GL a.D. Wolfgang Neidhardt\, SGK)\n2. Wesentliche Elemente einer deutschen Außen- und Sicherheitspolitik für eine Welt im Umbruch (Neue Macht\, neue Verantwortung).\nWelche objektiven Sicherheitsinteressen hat Deutschland?\nGibt es deutsche Großmachtambitionen?\nInhalt des neuen Weißbuchs?(noch offen\, evtl. Ehlers\, alternativ Dr. Neu)\n– Zum Verhältnis zwischen Politik und Militär in Deutschland.\n(Jürgen Heiducoff\, freier Autor\, aktives Mitglied der Friedensbewegung)\n3. Wie steht die gegenwärtige Bundesregierung zur Gemeinsamen Außen- und Sicherheitspolitik (GASP) bzw. zur Gemeinsamen Sicherheits- und Verteidigungspolitik (GSVP) der EU?\nIst Deutschland der Schlüssel bei der Stärkung kollektiver Sicherheit in Europa? EU-Armee – Ja oder Nein?\n(Dr. Alexander Neu\, MdB\, Obmann der Partei DIE LINKE für Verteidigungsfragen)?\n4. Zum Zustand der gegenwärtigen Friedensbewegung\nWelche Gruppierungen gibt es? Was eint\, was trennt sie?\nWie kann die Friedensbewegung der zunehmenden Kriegsgefahr begegnen? (Jürgen Heiducoff\, freier Autor\, aktives Mitglied der Friedensbewegung)\nWichtig:\nEs geht nicht nur um Deutschland und Europa! Es geht auch um Eurasien\, weil Russland zu Europa und Asien gehört. Die Player sind also: Die EU (mit Deutschland an der Spitze)\, Russland\, China und die USA.
URL:https://kai-ehlers.de/veranstaltung/vorstellung-des-buches-kai-ehlers-25-jahre-perestroika-gespraeche-mit-b-oris-kagarlitzki/
LOCATION:Unbenannter Veranstaltungsort\, Alter Gutshof\, Protzeler Chaussee 7\, Strausberg
END:VEVENT
BEGIN:VEVENT
DTSTART;TZID=Europe/Berlin:20150918T160000
DTEND;TZID=Europe/Berlin:20150920T140000
DTSTAMP:20260426T021222
CREATED:20150703T215722Z
LAST-MODIFIED:20150703T220421Z
UID:7468-1442592000-1442757600@kai-ehlers.de
SUMMARY:Vom Irrgarten zum Labyrinth
DESCRIPTION:Grundkurs – Einführung ins Labyrinth \nAnmeldung über Kontakt
URL:https://kai-ehlers.de/veranstaltung/vom-irrgarten-zum-labyrinth/
ATTACH;FMTTYPE=image/gif:https://kai-ehlers.de/wp-content/uploads/labyrinth_gross_444px.gif
END:VEVENT
BEGIN:VEVENT
DTSTART;TZID=Europe/Berlin:20150925T160000
DTEND;TZID=Europe/Berlin:20150927T140000
DTSTAMP:20260426T021222
CREATED:20150703T221715Z
LAST-MODIFIED:20150703T223057Z
UID:7471-1443196800-1443362400@kai-ehlers.de
SUMMARY:Demokratiekonferenz: Wie wir wirklich leben wollen die Basis der Basisdemokratie
DESCRIPTION:Demokratiekonferenz Herbst 2015\nder halbjährlichen Demokratiekonferenzen des Initiativkreises Demokratiekonferenzen im Rahmen der „Charta für ein Europa der Regionen“\nWie wir wirklich leben wollen\ndie Basis der Basisdemokratie\nDas gute Leben\nAnthropologische und soziale Grundlagen zur Entwicklung von Basisgemeinschaften\, Nachbarschaften und Gemeinden als Subgliederung und Binnenstruktur der autonomen Regionen im Sinne der\n„Charta für ein Europa der Regionen“ \n25.-27.09.2015 im Tagungshaus Mühlrain\, Niederbeisheim\, Hessen
URL:https://kai-ehlers.de/veranstaltung/demokratiekonferenz-herbst-2015-wie-wir-wirklich-leben-wollen-die-basis-der-basisdemokratie/
LOCATION:Tagungshaus Mühlrain\, Zum Mühlrain 1\, 34593 Knüllwald- Niederbeisheim \, 34593 Knüllwald- Niederbeisheim 
END:VEVENT
END:VCALENDAR