BEGIN:VCALENDAR
VERSION:2.0
PRODID:-//Kai Ehlers - ECPv6.5.1.5//NONSGML v1.0//EN
CALSCALE:GREGORIAN
METHOD:PUBLISH
X-ORIGINAL-URL:https://kai-ehlers.de
X-WR-CALDESC:Veranstaltungen für Kai Ehlers
REFRESH-INTERVAL;VALUE=DURATION:PT1H
X-Robots-Tag:noindex
X-PUBLISHED-TTL:PT1H
BEGIN:VTIMEZONE
TZID:Europe/Berlin
BEGIN:DAYLIGHT
TZOFFSETFROM:+0100
TZOFFSETTO:+0200
TZNAME:CEST
DTSTART:20170326T010000
END:DAYLIGHT
BEGIN:STANDARD
TZOFFSETFROM:+0200
TZOFFSETTO:+0100
TZNAME:CET
DTSTART:20171029T010000
END:STANDARD
END:VTIMEZONE
BEGIN:VEVENT
DTSTART;TZID=Europe/Berlin:20170401T140000
DTEND;TZID=Europe/Berlin:20170401T180000
DTSTAMP:20260422T035823
CREATED:20170222T212431Z
LAST-MODIFIED:20170222T212621Z
UID:8738-1491055200-1491069600@kai-ehlers.de
SUMMARY:Russland und die Logik  des neuen Kalten Krieges
DESCRIPTION:Veranstaltung im Rahmen des 3. friedenspolitischen Ratschlages in Kiel \n  \nhttp://www.kieler-friedensforum.de/images/Friedensratschlag2017-1.pdf
URL:https://kai-ehlers.de/veranstaltung/russland-und-die-logik-des-neuen-kalten-krieges/
LOCATION:Gewerkschaftshaus\, Emma Sorgenfrei\, Legienstr. \, Kiel\, 24103
END:VEVENT
END:VCALENDAR