BEGIN:VCALENDAR
VERSION:2.0
PRODID:-//Kai Ehlers - ECPv6.5.1.5//NONSGML v1.0//EN
CALSCALE:GREGORIAN
METHOD:PUBLISH
X-ORIGINAL-URL:https://kai-ehlers.de
X-WR-CALDESC:Veranstaltungen für Kai Ehlers
REFRESH-INTERVAL;VALUE=DURATION:PT1H
X-Robots-Tag:noindex
X-PUBLISHED-TTL:PT1H
BEGIN:VTIMEZONE
TZID:Europe/Berlin
BEGIN:DAYLIGHT
TZOFFSETFROM:+0100
TZOFFSETTO:+0200
TZNAME:CEST
DTSTART:20170326T010000
END:DAYLIGHT
BEGIN:STANDARD
TZOFFSETFROM:+0200
TZOFFSETTO:+0100
TZNAME:CET
DTSTART:20171029T010000
END:STANDARD
END:VTIMEZONE
BEGIN:VEVENT
DTSTART;TZID=Europe/Berlin:20170119T190000
DTEND;TZID=Europe/Berlin:20170119T210000
DTSTAMP:20260422T065057
CREATED:20170106T133538Z
LAST-MODIFIED:20170106T133538Z
UID:8651-1484852400-1484859600@kai-ehlers.de
SUMMARY:Wie sind das Land und sein Präsident Putin einzuschätzen?
DESCRIPTION:Wladimir Putin wird nachgesagt\, den Zusammenbruch der Sowjetunion für die größte Katastrophe des letzten Jahrhunderts zu halten. Für diese Sicht der Geschichte muss er sich einen neuen Stalin\, seit Eingliederung der Krim in die Russische Föderation sogar einen neuen Hitler nennen lassen. Welchen Weg hat Russland genommen\, seit es 1991 aus den Trümmern der Sowjetunion hervorging? Sucht es einen Weg der Revanche für die 1991 im Kalten Krieg erlittene Niederlage? Ist die von ihm angestrebte Eurasische Union eine Bedrohung der EU? Ist Russlands Außenpolitik aggressiv\, müssen die baltischen Staaten\, Polen und Tschechien mit einer russischen Invasion rechnen? Droht in Russland selbst eine Diktatur? Oder sind diese Darstellungen Russlands vielleicht nur Versuche\, an alte Vorurteile anzuknüpfen\, um das Land weiterhin politisch eindämmen und wirtschaftlich handhabbar machen zu können? Über die innere und äußere Entwicklung dieses großen Landes unter seinen Präsidenten M. Gorbatschow\, B. Jelzin und W. Putin spricht Kai Ehlers (www.kai-ehlers.de)\, Journalist und Russlandforscher seit Beginn der 1980er Jahre.
URL:https://kai-ehlers.de/veranstaltung/wie-sind-das-land-und-sein-pra%cc%88sident-putin-einzuscha%cc%88tzen-2/
END:VEVENT
END:VCALENDAR