BEGIN:VCALENDAR
VERSION:2.0
PRODID:-//Kai Ehlers - ECPv6.5.1.5//NONSGML v1.0//EN
CALSCALE:GREGORIAN
METHOD:PUBLISH
X-ORIGINAL-URL:https://kai-ehlers.de
X-WR-CALDESC:Veranstaltungen für Kai Ehlers
REFRESH-INTERVAL;VALUE=DURATION:PT1H
X-Robots-Tag:noindex
X-PUBLISHED-TTL:PT1H
BEGIN:VTIMEZONE
TZID:Europe/Berlin
BEGIN:DAYLIGHT
TZOFFSETFROM:+0100
TZOFFSETTO:+0200
TZNAME:CEST
DTSTART:20160327T010000
END:DAYLIGHT
BEGIN:STANDARD
TZOFFSETFROM:+0200
TZOFFSETTO:+0100
TZNAME:CET
DTSTART:20161030T010000
END:STANDARD
END:VTIMEZONE
BEGIN:VEVENT
DTSTART;TZID=Europe/Berlin:20160427T180000
DTEND;TZID=Europe/Berlin:20160427T213000
DTSTAMP:20260423T073539
CREATED:20160126T151932Z
LAST-MODIFIED:20160423T204100Z
UID:8111-1461780000-1461792600@kai-ehlers.de
SUMMARY:Russland vom kranken Mann zur "Bedrohung der Zivilisation"? --- ... --- Achtung: wird wg. Krankheit verschoben. Neue Ansage beachten.en
DESCRIPTION:  \nDem heutigen russischen Präsidenten Wladimir Putin wird nachgesagt\, den Zusammenbruch der Sowjetunion für die größte Katastrophe des letzten Jahrhunderts zu halten. Für diese Sicht der Geschichte muss er sich einen neuen Stalin\, seit Eingliederung der Krim in die Russische Föderation sogar einen neuen Hitler nennen lassen.\nWelchen Weg hat Russland genommen\, seit es 1991 aus den Trümmern der Sowjetunion hervorging? Sucht Russland einen Weg der Revanche für die 1991 im Kalten Krieg erlittene Niederlage\, ist die von ihm angestrebte Eurasische Union eine Bedrohung der Zivilisation wie Russland zur Zeit von der herrschenden westlichen Politik vorgeworfen wird? Droht in Russland selbst eine repressive nationalbolschewistische Diktatur? Oder sind diese Darstellungen Russlands vielleicht nur Versuche an alten Vorurteilen anzuknüpfen\, um das Land weiterhin politisch eindämmen und wirtschaftlich handhabbar machen zu können?\nÜber den Weg zur inneren und äußeren Rekonvaleszenz dieses großen Landes unter seinen Präsidenten Michael Gorbatschow\, Boris Jelzin\, Wladimir Putin spricht Kai Ehlers (www.kai-ehlers.de)\, Russlandforscher seit Beginn der frühen 80 Jahre des letzten Jahrhunderts.\nGrüße\, Kai Ehlers\, www.kai-ehlers.de \n 
URL:https://kai-ehlers.de/veranstaltung/russland-ein-aggressor/
LOCATION:K3\, Berliner Platz 12\, Heilbronn\, 74072
END:VEVENT
END:VCALENDAR