BEGIN:VCALENDAR
VERSION:2.0
PRODID:-//Kai Ehlers - ECPv6.5.1.5//NONSGML v1.0//EN
CALSCALE:GREGORIAN
METHOD:PUBLISH
X-WR-CALNAME:Kai Ehlers
X-ORIGINAL-URL:https://kai-ehlers.de
X-WR-CALDESC:Veranstaltungen für Kai Ehlers
REFRESH-INTERVAL;VALUE=DURATION:PT1H
X-Robots-Tag:noindex
X-PUBLISHED-TTL:PT1H
BEGIN:VTIMEZONE
TZID:Europe/Berlin
BEGIN:DAYLIGHT
TZOFFSETFROM:+0100
TZOFFSETTO:+0200
TZNAME:CEST
DTSTART:20160327T010000
END:DAYLIGHT
BEGIN:STANDARD
TZOFFSETFROM:+0200
TZOFFSETTO:+0100
TZNAME:CET
DTSTART:20161030T010000
END:STANDARD
END:VTIMEZONE
BEGIN:VEVENT
DTSTART;TZID=Europe/Berlin:20160315T183000
DTEND;TZID=Europe/Berlin:20160316T210000
DTSTAMP:20260424T044124
CREATED:20160112T215524Z
LAST-MODIFIED:20160112T223517Z
UID:8002-1458066600-1458162000@kai-ehlers.de
SUMMARY:Doppelveranstaltung: "Was ist das Russische an Russland? Und: "Dem Übel an die Wurzel gehen...""
DESCRIPTION:Vortrag zum Thema „Dem Übel an die Wurzel gehen…“ in der Volkshochschule Calw am 15. 03.2016 Calw. \n  \nAm Vormittag des 16.03 Vortrag von 09:00 bis 11:30 Uhr in der „Senioren Uni Calw“ zum Thema „Russischer Herzschlag. Was ist das Russische an Russland?“ in der SRH Hochschule für Wirtschaft und Medien (private FH) in der Lederstr. 1 im Zentrum der Altstadt von Calw.
URL:https://kai-ehlers.de/veranstaltung/was-ist-das-russische-an-russland/
LOCATION:Alte Lateinschule\, Kirchplatz 3\, Calw\, 75365
END:VEVENT
END:VCALENDAR