BEGIN:VCALENDAR
VERSION:2.0
PRODID:-//Kai Ehlers - ECPv6.5.1.5//NONSGML v1.0//EN
CALSCALE:GREGORIAN
METHOD:PUBLISH
X-ORIGINAL-URL:https://kai-ehlers.de
X-WR-CALDESC:Veranstaltungen für Kai Ehlers
REFRESH-INTERVAL;VALUE=DURATION:PT1H
X-Robots-Tag:noindex
X-PUBLISHED-TTL:PT1H
BEGIN:VTIMEZONE
TZID:Europe/Berlin
BEGIN:DAYLIGHT
TZOFFSETFROM:+0100
TZOFFSETTO:+0200
TZNAME:CEST
DTSTART:20150329T010000
END:DAYLIGHT
BEGIN:STANDARD
TZOFFSETFROM:+0200
TZOFFSETTO:+0100
TZNAME:CET
DTSTART:20151025T010000
END:STANDARD
END:VTIMEZONE
BEGIN:VEVENT
DTSTART;TZID=Europe/Berlin:20150901T170000
DTEND;TZID=Europe/Berlin:20150901T190000
DTSTAMP:20260425T230147
CREATED:20150703T143814Z
LAST-MODIFIED:20150703T202623Z
UID:7459-1441126800-1441134000@kai-ehlers.de
SUMMARY:Demonstration zum "Antikriegstag"
DESCRIPTION:Das Hamburger Forum bereitet zurzeit die Kundgebung zum Hiroshimatag und die Demonstration am Antikriegstag\, dem 1. September\, vor. Der Hiroshimatag jährt sich in diesem Jahr zum 70. Mal; unsere Kundgebung findet statt am Donnerstag\, dem 6. August\, um 17-19 Uhr. Die Demonstration zum Antikriegstag ist für den 1. September geplant. \nMit vorangehender Kundgebung zur aktuellen Lage\, \nRedner u.a. Kai Ehlers. \nAusgangspunkt der Demonstration vermutlich: der „Kriegsklotz“ am Bahnhof Dammtor \nZeit vermutlich: 18.00 Uhr \n(Nachfragen für beides notwendig\, siehe dazu die Seite des Friedensforums)
URL:https://kai-ehlers.de/veranstaltung/demonstration-zum-antikriegstag/
LOCATION:Unbenannter Veranstaltungsort\, Dammtordamm\, Hamburg
END:VEVENT
END:VCALENDAR